BEGIN:VCALENDAR
VERSION:2.0
PRODID:-//hacksw/handcal//NONSGML v1.0//EN
BEGIN:VEVENT
SUMMARY:Entrainement Tir PETIT/ESPERE
UID:002c9f7c-aa70-4eeb-b041-9f4731a22d6e
DTSTART:20260420T113000Z
DTEND:20260420T153000Z
LOCATION:Localisation   
CATEGORIES:Entrainement
STATUS:
URL;VALUE=URI:https://tir-sportif-sancoinnais.sportsregions.fr/evenements/2026/04/20/entrainement-tir-petitespere-2443262
END:VEVENT
END:VCALENDAR
