BEGIN:VCALENDAR
VERSION:2.0
PRODID:-//hacksw/handcal//NONSGML v1.0//EN
BEGIN:VEVENT
SUMMARY:Entrainement Tir ZIELINSKI/RAVAUD
UID:055285a7-4823-4c1b-8601-deed80179bdc
DTSTART:20260421T070000Z
DTEND:20260421T150000Z
LOCATION:Localisation   
CATEGORIES:Entrainement
STATUS:
URL;VALUE=URI:https://tir-sportif-sancoinnais.sportsregions.fr/evenements/2026/04/21/entrainement-tir-zielinskiravaud-2443264
END:VEVENT
END:VCALENDAR
