BEGIN:VCALENDAR
VERSION:2.0
PRODID:-//hacksw/handcal//NONSGML v1.0//EN
BEGIN:VEVENT
SUMMARY:ONF
UID:3f41bbaf-87f8-4685-9125-93365389cdfe
DTSTART:20260604T060000Z
DTEND:20260605T160000Z
LOCATION:Localisation   
CATEGORIES:Entrainement
STATUS:
URL;VALUE=URI:https://tir-sportif-sancoinnais.sportsregions.fr/evenements/2026/06/04/onf-2438397
END:VEVENT
END:VCALENDAR
